Workbook
Name BJ3BJ300: 'Enter Observations'!$BJ$3

Sheet Instructions
A1: Enhanced Barrier Precautions (EBP) Implementation - Observation Summary Tool (For observations in Skilled Nursing Facilities / Nursing Homes only)
A2: Instructions
A3: This tool should only be used once you have established the use of EBP in your facility (either in a unit, wing, or entire facility), and can be customized to meet the needs of the Skilled Nursing Facility/Nursing Home. This tool is designed to capture Enhanced Barrier Precautions (EBP) healthcare personnel (HCP) observations during high-contact resident care activities in a skilled nursing facility/nursing home as a part of auditing and feedback. Responses should refer to current practices. 1. Use the accompanying Enhanced Barrier Precautions Observation tool to collect observations while staff are practicing Enhanced Barrier Precautions (EBP) within your facility. Observations may be performed by any staff member, however, staff that perform observations should be trained in doing so. This observation tool and accompany Excel Spreadsheet are optional and can help facilities monitor implementation of EBP and identify opportunities for improvement. 2. Once the observations have been collected on the paper EBP Observation Tool, you can enter the responses into the sheet titled 'Enter Observations' within this Excel Spreadsheet (by clicking the 'Enter Observations' tab below)
A4: 3. When entering responses on the 'Enter Observations' tab, each observation can be entered on a new row. Start by assigning an observation number and then input the data from the paper form into each accompanying column. Some fields will be open-text, allowing you type in the response (e.g., Facility name, Unit), however, most fields will require you to select an option from a drop-down list. You may also type in the response, but the text entry must match an option in the drop-down list. 4. For questions that are "Select all that apply", please select "Yes" from the drop-down list for each item that applies (each item that is marked on the paper observation form). You can either leave the cell blank or select "No" for items that do not apply. 5. Once all observations and their accompanying data have been entered into the 'Enter Observations' tab, you can review the summary results in the 'Summary of Observations' tab. ***This sheet is currently locked/protected to maintain formulas and formatting. If needed, this sheet can be unlock/unprotected by selecting "Unprotect Sheet" in the Review menu, no password required.*** 6. The Observation Overview at the top of the 'Summary of Observations' sheet will provide the total number of observations that have been entered into the 'Enter Observations' tab. This number is important to consider when reviewing the results and interpreting the percentages presented within the summary report. For example, the percentages presented will vary widely if only a few observations are being summarized. 7. Optional - Once there are numerous observations entered in the 'Enter Observations' tab, you have the option of further exploring the data by filtering results by various groups. For example, you can review results for just the observations of Nursing Assistants, or for just the observations performed on patients/residents with indwelling urinary catheters. Exploring the results for individual groups can allow you to further identify opportunities for improvement.
A5: To filter results: - On the 'Enter Observations' tab, click the grey arrow icon in the bottom right hand corner of the cell for whichever item you would like to filter. For example, if you would like to review results for just Nurses, click the grey arrow in the cell of Question 5. From the drop-down list that appears, update the check boxes so only the box next to "Nurse (RN, LVN, LPN)" is selected and click "Ok". This will update the 'Enter Observations' tab to display just the observations that were for Nurses. - Click on the 'Summary of Observations' tab and note the "Filter Applied" icon near the top. This will show a red YES when there is a filtered applied. This is important because interpretation of the summary results will vary based on whether you are reviewing the results for all observations (no filtered applied) or for select groups (when a filter is applied). - Also note the "Observation Overview" at the top - this will display the 'total number of observations' first (which should remain the same), but will now display the updated 'number of observations summarized below', which will equal the total number of Nurse observations that are entered in the 'Enter Observations' tab. - All summary results presented will now be automatically updated and will display the results for just the Nurses (or for whichever group you have filtered) - To remove a filter, go back to the 'Enter Observations' tab and select the grey filter icon in the bottom right-hand corner of the cell for the item for which you have filtered (in this example, Question 5 - role of person being observed). Click the 'Select All' option or manually select all boxes so that all boxes are checked. Then click 'Ok'. - You can now go back to the 'Summary of Observations' tab and see at the top that the "Filter Applied" icon should indicate NO and the "Observation Overview" should indicate the same number for the 'total number of observations' and 'number of observations summarized below'. The data summarized now includes all observations entered into the 'Enter Observation' tab.

Sheet Enter Observations
I1: 3. Criteria for use of Enhanced Barrier Precautions (Select 'Yes' for each item that applies) | U1: 6. High-contact resident care activity being observed (Select 'Yes' for each item that applies) | AD1: 7. During the high-contact resident care activity, was a gown and/or gloves used throughout the activity? (Select 'Yes' for each item that applies) | AF1: 8. If a gown and/or gloves was not used, during which high-contact resident care activities was a gown and/or gloves not used? (Select 'Not Used' for each item that applies) IF BOTH GOWN AND GLOVES WERE USED FOR ALL ACTIVITIES PERFORMED, SKIP TO 9 | AR1: 10a. If YES, what is available? (Select 'Yes' for each item that applies) IF 10 IS NO OR UNKNOWN - LEAVE BLANK | AU1: 10b. If YES, where is the PPE located? (Select 'Yes' for each item that applies) IF 10 IS NO OR UNKNOWN - LEAVE BLANK | AY1: 11b. If YES, where is the ABHS located? (Select 'Yes' for each item that applies) IF 11 IS NO OR UNKNOWN - LEAVE BLANK | BC1: 12b. If YES, where is the trash receptacle located? (Select 'Yes' for each item that applies) IF 12 IS NO OR UNKNOWN - LEAVE BLANK | BH1: 14. If question 13a is answered “Yes”, did the HCP complete the following before providing care to another resident in the same room? IF 13A IS NO OR UNKNOWN - LEAVE BLANK - SKIP TO 17 | BK1: 16. If question 15 is answered “Yes”, did the HCP complete the following before providing care to the next resident in the same room?
A2: Observation # | B2: Facility Name | C2: Date of Assessment | D2: 1. Title or role of person conducting observation (This field must be populated for each observation for summary calculations to function) | E2: Other, please specify: | F2: Unit | G2: Room | H2: Bed Identification (if applicable) | I2: Wound | J2: Central Line / PICC | K2: Urinary Catheter | L2: Feeding Tube | M2: Tracheostomy Tube | N2: Ventilator | O2: Multidrug-resistant organism (MDRO) colonization or MDRO infection | P2: Other, please specify | Q2: Unknown | R2: 4. If question 3 is answered as “Unknown”, please specify what the facility is doing to determine the process for tracking residents meeting criteria for EBP: | S2: 5. Title or role of person providing high-contact resident care (person being observed) | T2: Other, please specify: | U2: Dressing | V2: Bathing/ Showering | W2: Transferring | X2: Changing briefs or assisting with toileting | Y2: Providing hygiene | Z2: Changing linens | AA2: Indwelling medical device care or use | AB2: Wound care | AC2: Other, please specify: | AD2: Gloves | AE2: Gown | AF2: Dressing | AG2: Bathing/ Showering | AH2: Transferring | AI2: Changing briefs or assisting with toileting | AJ2: Providing hygiene | AK2: Changing linens | AL2: Indwelling medical device care or use | AM2: Wound care | AN2: Other, Please Specify | AO2: 9. Is an appropriate EBP sign present near the resident room door? | AP2: 9a. If YES, is the sign clearly visible? IF NO - LEAVE BLANK | AQ2: 10. Is PPE readily available to the staff entering the resident(s) room? | AR2: Gowns | AS2: Gloves | AT2: Other, please specify: | AU2: Immediately outside the room | AV2: Inside the room | AW2: Other, please specify: | AX2: 11. Is alcohol-based hand sanitizer (ABHS) readily available to the HCP entering the resident(s) room? | AY2: Immediately outside the room | AZ2: Inside the room | BA2: Other, please specify: | BB2: 12. Is a trash receptacle available for staff to discard used PPE? | BC2: Inside the room | BD2: Outside of the room | BE2: Other, please specify: | BF2: 13. Is the room where high-contact resident care is being observed a multi-resident room (i.e., semi-private)? IF NO - SELECT NO AND SKIP TO 17 | BG2: 13a. If YES, is the HCP planning to provide care to another resident in the same room? IF 13 IS NO OR UNKNOWN - LEAVE BLANK - SKIP TO 17 | BH2: Gown and gloves are doffed (removed) after the HCP completes care with the first resident | BI2: Hand hygiene is performed after doffing (removing) gown and gloves | BJ2: 15. If question 13a is answered “Yes”, is the next resident who is going to be provided care also using EBP? IF 13A IS NO OR UNKNOWN - LEAVE BLANK - SKIP TO 17 | BK2: Gown and gloves are donned (put on) before providing high-contact resident care? | BL2: 17. After completing care for the resident, was the used gown and gloves discarded in the nearest trash receptable? | BM2: If No to #17, please specify what was seen: | BN2: If Yes to #17, where was the trash receptable located? | BO2: Other, please specify: | BP2: 18. After completing care for the resident and discarding the gown and gloves, did the HCP perform hand hygiene? | BQ2: If No to #18, please specify what was seen: | BR2: 19. If any opportunities for improvement were observed, was real-time feedback provided to the staff member? | BS2: 20. If question 19 is answered “No”, please briefly describe any plans to summarize observations and provide feedback to HCP another time

Sheet Summary of Observations
C2: =IF('Enter Observations'!B3 <>"", 'Enter Observations'!B3, "Facility Name") -> Facility Name
C3: Enhanced Barrier Precautions (EBP) Implementation - Observations Tool
C4: (For use in Skilled Nursing Facilities / Nursing Homes only)
C6: Observation Overview
C7: Date Range: | D7: Enter date range of observations
C8: Total Number of Observations: | D8: =COUNTA('Enter Observations'!$D3:$D300) -> 0
C9: Number of Observations Summarized Below: | D9: =SUBTOTAL(3, 'Enter Observations'!$D3:$D300) -> 0
C11: Is there a Filter applied to the data? | D11: =IF(D8=D9, "No", "Yes") -> No
C12: *Filtering described in the Instructions tab
C14: Title or role of person conducting observation: | D14: Number of Observations | E14: Percent of Observations
C15: Nurse (RN, LVN, LPN) | D15: {=SUMPRODUCT(SUBTOTAL(3, OFFSET('Enter Observations'!D2, ROW('Enter Observations'!D3:D300)-ROW('Enter Observations'!$D$2),,1)),--(ISNUMBER(MATCH('Enter Observations'!D3:D300,{"Nurse (RN, LVN, LPN)"},0))))} -> 0 | E15: =IFERROR(D15/$H$9, " ")
C16: Nurse - Unit Manager or above | D16: {=SUMPRODUCT(SUBTOTAL(3, OFFSET('Enter Observations'!D2, ROW('Enter Observations'!D3:D300)-ROW('Enter Observations'!$D$2),,1)),--(ISNUMBER(MATCH('Enter Observations'!D3:D300,{"Nurse - Unit Manager or above"},0))))} -> 0 | E16: =IFERROR(D16/$H$9, " ")
C17: Nurse Practitioner/Physician Assistant (NP/PA) | D17: {=SUMPRODUCT(SUBTOTAL(3, OFFSET('Enter Observations'!D2, ROW('Enter Observations'!D3:D300)-ROW('Enter Observations'!$D$2),,1)),--(ISNUMBER(MATCH('Enter Observations'!D3:D300,{"Nurse Practitioner/Physician Assistant (NP/PA)"},0))))} -> 0 | E17: =IFERROR(D17/$H$9, " ")
C18: Certified Nursing Assistant/Patient Care Associate/Patient Care Tech (CNA/PCA/PCT) | D18: {=SUMPRODUCT(SUBTOTAL(3, OFFSET('Enter Observations'!D2, ROW('Enter Observations'!D3:D300)-ROW('Enter Observations'!$D$2),,1)),--(ISNUMBER(MATCH('Enter Observations'!D3:D300,{"Certified Nursing Assistant/Patient Care Associate/Patient Care Tech (CNA/PCA/PCT)"},0))))} -> 0 | E18: =IFERROR(D18/$H$9, " ")
C19: Physician | D19: {=SUMPRODUCT(SUBTOTAL(3, OFFSET('Enter Observations'!D2, ROW('Enter Observations'!D3:D300)-ROW('Enter Observations'!$D$2),,1)),--(ISNUMBER(MATCH('Enter Observations'!D3:D300,{"Physician"},0))))} -> 0 | E19: =IFERROR(D19/$H$9, " ")
C20: Infection Preventionist | D20: {=SUMPRODUCT(SUBTOTAL(3, OFFSET('Enter Observations'!D2, ROW('Enter Observations'!D3:D300)-ROW('Enter Observations'!$D$2),,1)),--(ISNUMBER(MATCH('Enter Observations'!D3:D300,{"Infection Preventionist"},0))))} -> 0 | E20: =IFERROR(D20/$H$9, " ")
C21: Wound Care staff | D21: {=SUMPRODUCT(SUBTOTAL(3, OFFSET('Enter Observations'!D2, ROW('Enter Observations'!D3:D300)-ROW('Enter Observations'!$D$2),,1)),--(ISNUMBER(MATCH('Enter Observations'!D3:D300,{"Wound Care staff"},0))))} -> 0 | E21: =IFERROR(D21/$H$9, " ")
C22: Administrative Staff | D22: {=SUMPRODUCT(SUBTOTAL(3, OFFSET('Enter Observations'!D2, ROW('Enter Observations'!D3:D300)-ROW('Enter Observations'!$D$2),,1)),--(ISNUMBER(MATCH('Enter Observations'!D3:D300,{"Administrative Staff"},0))))} -> 0 | E22: =IFERROR(D22/$H$9, " ")
C23: Housekeeping / EVS | D23: {=SUMPRODUCT(SUBTOTAL(3, OFFSET('Enter Observations'!D2, ROW('Enter Observations'!D3:D300)-ROW('Enter Observations'!$D$2),,1)),--(ISNUMBER(MATCH('Enter Observations'!D3:D300,{"Housekeeping / EVS"},0))))} -> 0 | E23: =IFERROR(D23/$H$9, " ")
C24: Student | D24: {=SUMPRODUCT(SUBTOTAL(3, OFFSET('Enter Observations'!D2, ROW('Enter Observations'!D3:D300)-ROW('Enter Observations'!$D$2),,1)),--(ISNUMBER(MATCH('Enter Observations'!D3:D300,{"Student "},0))))} -> 0 | E24: =IFERROR(D24/$H$9, " ")
C25: Other | D25: {=SUMPRODUCT(SUBTOTAL(3, OFFSET('Enter Observations'!D2, ROW('Enter Observations'!D3:D300)-ROW('Enter Observations'!$D$2),,1)),--(ISNUMBER(MATCH('Enter Observations'!D3:D300,{"Other"},0))))} -> 0 | E25: =IFERROR(D25/$H$9, " ")
C27: Title or role of person providing high-contact resident care (person being observed): | D27: Number of Observations | E27: Percent of Observations
C28: Emergency Medical Service Personnel | D28: {=SUMPRODUCT(SUBTOTAL(3, OFFSET('Enter Observations'!S2, ROW('Enter Observations'!S3:S300)-ROW('Enter Observations'!$S$2),,1)),--(ISNUMBER(MATCH('Enter Observations'!S3:S300,{"Emergency Medical Service Personnel"},0))))} -> 0 | E28: =IFERROR(D28/$H$9, " ")
C29: Nurse (RN, LVN, LPN) | D29: {=SUMPRODUCT(SUBTOTAL(3, OFFSET('Enter Observations'!S2, ROW('Enter Observations'!S3:S300)-ROW('Enter Observations'!$S$2),,1)),--(ISNUMBER(MATCH('Enter Observations'!S3:S300,{"Nurse (RN, LVN, LPN)"},0))))} -> 0 | E29: =IFERROR(D29/$H$9, " ")
C30: Nursing Assistant (CNA, PCT, PCA) | D30: {=SUMPRODUCT(SUBTOTAL(3, OFFSET('Enter Observations'!S2, ROW('Enter Observations'!S3:S300)-ROW('Enter Observations'!$S$2),,1)),--(ISNUMBER(MATCH('Enter Observations'!S3:S300,{"Nursing Assistant (CNA, PCT, PCA)"},0))))} -> 0 | E30: =IFERROR(D30/$H$9, " ")
C31: Licensed Provider (MD, DO, DDS, Podiatrist, NP, PA) | D31: {=SUMPRODUCT(SUBTOTAL(3, OFFSET('Enter Observations'!S2, ROW('Enter Observations'!S3:S300)-ROW('Enter Observations'!$S$2),,1)),--(ISNUMBER(MATCH('Enter Observations'!S3:S300,{"Licensed Provider (MD, DO, DDS, Podiatrist, NP, PA)"},0))))} -> 0 | E31: =IFERROR(D31/$H$9, " ")
C32: Physical/Occupational/Speech Therapist | D32: {=SUMPRODUCT(SUBTOTAL(3, OFFSET('Enter Observations'!S2, ROW('Enter Observations'!S3:S300)-ROW('Enter Observations'!$S$2),,1)),--(ISNUMBER(MATCH('Enter Observations'!S3:S300,{"Physical/Occupational/Speech Therapist"},0))))} -> 0 | E32: =IFERROR(D32/$H$9, " ")
C33: Phlebotomist/Lab technician | D33: {=SUMPRODUCT(SUBTOTAL(3, OFFSET('Enter Observations'!S2, ROW('Enter Observations'!S3:S300)-ROW('Enter Observations'!$S$2),,1)),--(ISNUMBER(MATCH('Enter Observations'!S3:S300,{"Phlebotomist/Lab technician"},0))))} -> 0 | E33: =IFERROR(D33/$H$9, " ")
C34: Sitter/Personal Caregiver (Hired) | D34: {=SUMPRODUCT(SUBTOTAL(3, OFFSET('Enter Observations'!S2, ROW('Enter Observations'!S3:S300)-ROW('Enter Observations'!$S$2),,1)),--(ISNUMBER(MATCH('Enter Observations'!S3:S300,{"Sitter/personal caregiver (hired)"},0))))} -> 0 | E34: =IFERROR(D34/$H$9, " ")
C35: Other contractual staff not employed by facility | D35: {=SUMPRODUCT(SUBTOTAL(3, OFFSET('Enter Observations'!S2, ROW('Enter Observations'!S3:S300)-ROW('Enter Observations'!$S$2),,1)),--(ISNUMBER(MATCH('Enter Observations'!S3:S300,{"Other contractual staff not employed by facility"},0))))} -> 0 | E35: =IFERROR(D35/$H$9, " ")
C36: Student | D36: {=SUMPRODUCT(SUBTOTAL(3, OFFSET('Enter Observations'!S2, ROW('Enter Observations'!S3:S300)-ROW('Enter Observations'!$S$2),,1)),--(ISNUMBER(MATCH('Enter Observations'!S3:S300,{"Student "},0))))} -> 0 | E36: =IFERROR(D36/$H$9, " ")
C37: Other/unknown, please specify: | D37: {=SUMPRODUCT(SUBTOTAL(3, OFFSET('Enter Observations'!S2, ROW('Enter Observations'!S3:S300)-ROW('Enter Observations'!$S$2),,1)),--(ISNUMBER(MATCH('Enter Observations'!S3:S300,{"Other/unknown, please specify:"},0))))} -> 0 | E37: =IFERROR(D37/$H$9, " ")
C39: Criteria for use of Enhanced Barrier Precautions | D39: Number of Observations | E39: Percent of Observations*
C40: Wound | D40: {=SUMPRODUCT(SUBTOTAL(3, OFFSET('Enter Observations'!I2, ROW('Enter Observations'!I3:I300)-ROW('Enter Observations'!$I$2),,1)),--(ISNUMBER(MATCH('Enter Observations'!I3:I300,{"Yes"},0))))} -> 0 | E40: =IFERROR(D40/$H$9, " ")
C41: Indwelling medical device(s)
C42: Central line / PICC | D42: {=SUMPRODUCT(SUBTOTAL(3, OFFSET('Enter Observations'!J2, ROW('Enter Observations'!J3:J300)-ROW('Enter Observations'!$J$2),,1)),--(ISNUMBER(MATCH('Enter Observations'!J3:J300,{"Yes"},0))))} -> 0 | E42: =IFERROR(D42/$H$9, " ")
C43: Urinary catheter | D43: {=SUMPRODUCT(SUBTOTAL(3, OFFSET('Enter Observations'!K2, ROW('Enter Observations'!K3:K300)-ROW('Enter Observations'!$K$2),,1)),--(ISNUMBER(MATCH('Enter Observations'!K3:K300,{"Yes"},0))))} -> 0 | E43: =IFERROR(D43/$H$9, " ")
C44: Feeding tube | D44: {=SUMPRODUCT(SUBTOTAL(3, OFFSET('Enter Observations'!L2, ROW('Enter Observations'!L3:L300)-ROW('Enter Observations'!$L$2),,1)),--(ISNUMBER(MATCH('Enter Observations'!L3:L300,{"Yes"},0))))} -> 0 | E44: =IFERROR(D44/$H$9, " ")
C45: Tracheostomy tube | D45: {=SUMPRODUCT(SUBTOTAL(3, OFFSET('Enter Observations'!M2, ROW('Enter Observations'!M3:M300)-ROW('Enter Observations'!$M$2),,1)),--(ISNUMBER(MATCH('Enter Observations'!M3:M300,{"Yes"},0))))} -> 0 | E45: =IFERROR(D45/$H$9, " ")
C46: Ventilator | D46: {=SUMPRODUCT(SUBTOTAL(3, OFFSET('Enter Observations'!N2, ROW('Enter Observations'!N3:N300)-ROW('Enter Observations'!$N$2),,1)),--(ISNUMBER(MATCH('Enter Observations'!N3:N300,{"Yes"},0))))} -> 0 | E46: =IFERROR(D46/$H$9, " ")
...

Sheet Response Options (do not edit)
C2: 1. Title or role of person conducting observation | D2: 5. Title or role of person providing high-contact resident care activities (person being observed) | E2: Yes/No/Blank | F2: Yes/No/Unk/Blank | G2: N/A | H2: Unk | I2: N/A | J2: Used | K2: No, specify | L2: trash | M2: observed
C4: Nurse (RN, LVN, LPN) | D4: Emergency Medical Service Personnel | E4: Yes | F4: Yes | G4: Yes | H4: Unknown | I4: Yes | J4: Both Gown and Gloves Used | K4: Yes | L4: Inside the room | M4: Yes
C5: Nurse - Unit Manager or above | D5: Nurse (RN, LVN, LPN) | E5: No | F5: No | G5: No | H5: No | I5: No | J5: Not Used | K5: No, please specify what was seen: | L5: Outside the room | M5: No
C6: Nurse Practitioner/Physician Assistant (NP/PA) | D6: Nursing Assistant (CNA, PCT, PCA) | F6: Unknown | G6: Unknown | I6: Unknown | J6: Activity not performed | K6: Unknown | L6: Other, please specify: | M6: Unknown
C7: Certified Nursing Assistant/Patient Care Associate/Patient Care Tech (CNA/PCA/PCT) | D7: Licensed Provider (MD, DO, DDS, Podiatrist, NP, PA) | I7: Not Applicable (single room or gown not donned) | K7: Gown and Gloves Not Used | L7: N/A (PPE not used or PPE not discarded) | M7: No opportunities for improvement observed
C8: Physician | D8: Physical/Occupational/Speech Therapist | F8: 9a | G8: 10a/10b | H8: 11a | I8: 13a | J8: 14/15 | K8: 16
C9: Infection Preventionist | D9: Phlebotomist/Lab technician
C10: Wound Care staff | D10: Sitter/personal caregiver (hired) | F10: Yes | G10: Yes | H10: Yes | I10: Yes | J10: Yes | K10: Yes
C11: Administrative Staff | D11: Other contractual staff not employed by facility | F11: No | G11: No | H11: No | I11: No | J11: No | K11: No
C12: Housekeeping / EVS | D12: Student | F12: Unknown | G12: N/A (PPE Not Available) | H12: N/A (ABHS Not Available When Entering Room) | I12: Unknown | J12: Unknown | K12: Unknown
C13: Student | D13: Other/unknown, please specify: | F13: N/A (EBP sign not present) | I13: N/A (Not a multi-resident room) | J13: N/A (HCP not providing care to other resident) | K13: N/A (Other resident in shared room is not on EBP)
C14: Other
